BEGIN:VCALENDAR
VERSION:2.0
PRODID:-//eventon.com NONSGML v1.0//EN
CALSCALE:GREGORIAN
METHOD:PUBLISH
BEGIN:VEVENT
UID:69e6458968aed
DTSTAMP:20260420T152601Z
DTSTART:20261213T090000Z
DTEND:20261213T225900Z
LOCATION:Bootshaus 77694 Kehl\,  Hafenstr. 6
SUMMARY:Straßburger Weihnachtsmarkt
DESCRIPTION:Straßburger Weihnachtsmarkt\nhttps://kehler-paddlergil.de/even
 ts/stra%ef%bf%bdburger-weihnachtsmarkt/
URL:https://kehler-paddlergil.de/events/stra%ef%bf%bdburger-weihnachtsmarkt/
END:VEVENT
END:VCALENDAR