BEGIN:VCALENDAR
VERSION:2.0
PRODID:-//eventon.com NONSGML v1.0//EN
CALSCALE:GREGORIAN
METHOD:PUBLISH
BEGIN:VEVENT
UID:69e6458584843
DTSTAMP:20260420T152557Z
DTSTART:20261204T180000Z
DTEND:20261204T180000Z
LOCATION:Bootshaus 77694 Kehl\,  Hafenstr. 6
SUMMARY:Nikolaushock
DESCRIPTION:Nikolaushock\nhttps://kehler-paddlergil.de/events/nikolaushock/
URL:https://kehler-paddlergil.de/events/nikolaushock/
END:VEVENT
END:VCALENDAR