BEGIN:VCALENDAR
VERSION:2.0
PRODID:-//eventon.com NONSGML v1.0//EN
CALSCALE:GREGORIAN
METHOD:PUBLISH
BEGIN:VEVENT
UID:69e645b9b9c2d
DTSTAMP:20260420T152649Z
DTSTART:20261108T080000Z
DTEND:20261108T225900Z
LOCATION:Bootshaus 77694 Kehl\,  Hafenstr. 6
SUMMARY:Eisfahrt Gro Wa
DESCRIPTION:Eisfahrt Gro Wa\nhttps://kehler-paddlergil.de/events/eisfahrt-g
 ro-wa/
URL:https://kehler-paddlergil.de/events/eisfahrt-gro-wa/
END:VEVENT
END:VCALENDAR