BEGIN:VCALENDAR
VERSION:2.0
PRODID:-//eventon.com NONSGML v1.0//EN
CALSCALE:GREGORIAN
METHOD:PUBLISH
BEGIN:VEVENT
UID:69e645ed0e3fb
DTSTAMP:20260420T152741Z
DTSTART:20261018T070000Z
DTEND:20261018T070000Z
LOCATION:Bootshaus 77694 Kehl\,  Hafenstr. 6
SUMMARY:Herbstfahrt Ottenh.
DESCRIPTION:Herbstfahrt Ottenh.\nhttps://kehler-paddlergil.de/events/herbst
 fahrt-ottenh/
URL:https://kehler-paddlergil.de/events/herbstfahrt-ottenh/
END:VEVENT
END:VCALENDAR