BEGIN:VCALENDAR
VERSION:2.0
PRODID:-//eventon.com NONSGML v1.0//EN
CALSCALE:GREGORIAN
METHOD:PUBLISH
BEGIN:VEVENT
UID:69e645a7ab7d7
DTSTAMP:20260420T152631Z
DTSTART:20260927T070000Z
DTEND:20260927T070000Z
LOCATION:Bootshaus 77694 Kehl\,  Hafenstr. 6
SUMMARY:Untere Ill (Abpaddeln)
DESCRIPTION:Untere Ill (Abpaddeln)\nhttps://kehler-paddlergil.de/events/unt
 ere-ill-abpaddeln/
URL:https://kehler-paddlergil.de/events/untere-ill-abpaddeln/
END:VEVENT
END:VCALENDAR