BEGIN:VCALENDAR
VERSION:2.0
PRODID:-//eventon.com NONSGML v1.0//EN
CALSCALE:GREGORIAN
METHOD:PUBLISH
BEGIN:VEVENT
UID:69e645f419632
DTSTAMP:20260420T152748Z
DTSTART:20260920T063000Z
DTEND:20260920T063000Z
LOCATION:Bootshaus 77694 Kehl\,  Hafenstr. 6
SUMMARY:Lac Pierre Percee
DESCRIPTION:Lac Pierre Percee\nhttps://kehler-paddlergil.de/events/lac-pier
 re-percee-4/
URL:https://kehler-paddlergil.de/events/lac-pierre-percee-4/
END:VEVENT
END:VCALENDAR