BEGIN:VCALENDAR
VERSION:2.0
PRODID:-//eventon.com NONSGML v1.0//EN
CALSCALE:GREGORIAN
METHOD:PUBLISH
BEGIN:VEVENT
UID:69e645f53173e
DTSTAMP:20260420T152749Z
DTSTART:20260912T172700Z
DTEND:20260913T101700Z
LOCATION:Bootshaus 77694 Kehl\,  Hafenstr. 6
SUMMARY:Lampionwochenende
DESCRIPTION:Ausschreibung kommt rechtzeitig!\nhttps://kehler-paddlergil.de/
 events/lampionwochenende-4/
URL:https://kehler-paddlergil.de/events/lampionwochenende-4/
END:VEVENT
END:VCALENDAR