BEGIN:VCALENDAR
VERSION:2.0
PRODID:-//eventon.com NONSGML v1.0//EN
CALSCALE:GREGORIAN
METHOD:PUBLISH
BEGIN:VEVENT
UID:69e645f13c15b
DTSTAMP:20260420T152745Z
DTSTART:20260905T070000Z
DTEND:20260905T070000Z
LOCATION:Bootshaus 77694 Kehl\,  Hafenstr. 6
SUMMARY:Arbeitseinsatz
DESCRIPTION:Arbeitseinsatz\nhttps://kehler-paddlergil.de/events/arbeitseins
 atz-13/
URL:https://kehler-paddlergil.de/events/arbeitseinsatz-13/
END:VEVENT
END:VCALENDAR