BEGIN:VCALENDAR
VERSION:2.0
PRODID:-//eventon.com NONSGML v1.0//EN
CALSCALE:GREGORIAN
METHOD:PUBLISH
BEGIN:VEVENT
UID:69e645ae32288
DTSTAMP:20260420T152638Z
DTSTART:20260808T120000Z
DTEND:20260808T120000Z
LOCATION:Bootshaus 77694 Kehl\,  Hafenstr. 6
SUMMARY:Schnupperpaddeln
DESCRIPTION:Schnupperpaddeln\nhttps://kehler-paddlergil.de/events/schnupper
 paddeln-11/
URL:https://kehler-paddlergil.de/events/schnupperpaddeln-11/
END:VEVENT
END:VCALENDAR