BEGIN:VCALENDAR
VERSION:2.0
PRODID:-//eventon.com NONSGML v1.0//EN
CALSCALE:GREGORIAN
METHOD:PUBLISH
BEGIN:VEVENT
UID:69e645bbc9060
DTSTAMP:20260420T152651Z
DTSTART:20260802T070000Z
DTEND:20260802T070000Z
LOCATION:Bootshaus 77694 Kehl\,  Hafenstr. 6
SUMMARY:Moder
DESCRIPTION:Moder\nhttps://kehler-paddlergil.de/events/moder-4/
URL:https://kehler-paddlergil.de/events/moder-4/
END:VEVENT
END:VCALENDAR