BEGIN:VCALENDAR
VERSION:2.0
PRODID:-//eventon.com NONSGML v1.0//EN
CALSCALE:GREGORIAN
METHOD:PUBLISH
BEGIN:VEVENT
UID:69e645ec6e216
DTSTAMP:20260420T152740Z
DTSTART:20260720T150000Z
DTEND:20260720T150000Z
LOCATION:Bootshaus 77694 Kehl\,  Hafenstr. 6
SUMMARY:Sicherheitstraining
DESCRIPTION:Sicherheitstraining\nhttps://kehler-paddlergil.de/events/sicher
 heitstraining-3/
URL:https://kehler-paddlergil.de/events/sicherheitstraining-3/
END:VEVENT
END:VCALENDAR