BEGIN:VCALENDAR
VERSION:2.0
PRODID:-//eventon.com NONSGML v1.0//EN
CALSCALE:GREGORIAN
METHOD:PUBLISH
BEGIN:VEVENT
UID:69e645bc6a1d4
DTSTAMP:20260420T152652Z
DTSTART:20260711T172600Z
DTEND:20260726T101700Z
LOCATION:
SUMMARY:Deux rives - zwei Ufer
DESCRIPTION:Deux rives - zwei Ufer\nhttps://kehler-paddlergil.de/events/deu
 x-rives-zwei-ufer/
URL:https://kehler-paddlergil.de/events/deux-rives-zwei-ufer/
END:VEVENT
END:VCALENDAR