BEGIN:VCALENDAR
VERSION:2.0
PRODID:-//eventon.com NONSGML v1.0//EN
CALSCALE:GREGORIAN
METHOD:PUBLISH
BEGIN:VEVENT
UID:69e645f13756c
DTSTAMP:20260420T152745Z
DTSTART:20260711T080000Z
DTEND:20260711T080000Z
LOCATION:Bootshaus 77694 Kehl\,  Hafenstr. 6
SUMMARY:Schnupperpaddeln
DESCRIPTION:Schnupperpaddeln\nhttps://kehler-paddlergil.de/events/schnupper
 paddeln-10/
URL:https://kehler-paddlergil.de/events/schnupperpaddeln-10/
END:VEVENT
END:VCALENDAR