BEGIN:VCALENDAR
VERSION:2.0
PRODID:-//eventon.com NONSGML v1.0//EN
CALSCALE:GREGORIAN
METHOD:PUBLISH
BEGIN:VEVENT
UID:69e645ab36506
DTSTAMP:20260420T152635Z
DTSTART:20260708T063000Z
DTEND:20260708T063000Z
LOCATION:Bootshaus 77694 Kehl\,  Hafenstr. 6
SUMMARY:Perlen 3 Moder
DESCRIPTION:Perlen 3 Moder\nhttps://kehler-paddlergil.de/events/perlen-3-mo
 der-2/
URL:https://kehler-paddlergil.de/events/perlen-3-moder-2/
END:VEVENT
END:VCALENDAR