BEGIN:VCALENDAR
VERSION:2.0
PRODID:-//eventon.com NONSGML v1.0//EN
CALSCALE:GREGORIAN
METHOD:PUBLISH
BEGIN:VEVENT
UID:69e645ea6908c
DTSTAMP:20260420T152738Z
DTSTART:20260706T150000Z
DTEND:20260706T150000Z
LOCATION:Bootshaus 77694 Kehl\,  Hafenstr. 6
SUMMARY:Sicherheitstraining
DESCRIPTION:Sicherheitstraining\nhttps://kehler-paddlergil.de/events/sicher
 heitstraining/
URL:https://kehler-paddlergil.de/events/sicherheitstraining/
END:VEVENT
END:VCALENDAR