BEGIN:VCALENDAR
VERSION:2.0
PRODID:-//eventon.com NONSGML v1.0//EN
CALSCALE:GREGORIAN
METHOD:PUBLISH
BEGIN:VEVENT
UID:69e645b9b5008
DTSTAMP:20260420T152649Z
DTSTART:20260704T060000Z
DTEND:20260705T145900Z
LOCATION:Bootshaus 77694 Kehl\,  Hafenstr. 6
SUMMARY:Speyer
DESCRIPTION:Speyer\nhttps://kehler-paddlergil.de/events/speyer-2/
URL:https://kehler-paddlergil.de/events/speyer-2/
END:VEVENT
END:VCALENDAR