BEGIN:VCALENDAR
VERSION:2.0
PRODID:-//eventon.com NONSGML v1.0//EN
CALSCALE:GREGORIAN
METHOD:PUBLISH
BEGIN:VEVENT
UID:69e645bd63da3
DTSTAMP:20260420T152653Z
DTSTART:20260627T150000Z
DTEND:20260627T150000Z
LOCATION:Bootshaus 77694 Kehl\,  Hafenstr. 6
SUMMARY:Sommerfest
DESCRIPTION:Sommerfest\nhttps://kehler-paddlergil.de/events/sommerfest-4/
URL:https://kehler-paddlergil.de/events/sommerfest-4/
END:VEVENT
END:VCALENDAR