BEGIN:VCALENDAR
VERSION:2.0
PRODID:-//eventon.com NONSGML v1.0//EN
CALSCALE:GREGORIAN
METHOD:PUBLISH
BEGIN:VEVENT
UID:69e645aeb559c
DTSTAMP:20260420T152638Z
DTSTART:20260624T150000Z
DTEND:20260624T215900Z
LOCATION:Bootshaus 77694 Kehl\,  Hafenstr. 6
SUMMARY:Abendfahrt GroWa
DESCRIPTION:Abendfahrt GroWa\nhttps://kehler-paddlergil.de/events/abenfahrt
 -growa/
URL:https://kehler-paddlergil.de/events/abenfahrt-growa/
END:VEVENT
END:VCALENDAR