BEGIN:VCALENDAR
VERSION:2.0
PRODID:-//eventon.com NONSGML v1.0//EN
CALSCALE:GREGORIAN
METHOD:PUBLISH
BEGIN:VEVENT
UID:69e645abe2d33
DTSTAMP:20260420T152635Z
DTSTART:20260620T172000Z
DTEND:20260621T101700Z
LOCATION:
SUMMARY:Obere Ill
DESCRIPTION:Obere Ill\nhttps://kehler-paddlergil.de/events/obere-ill-2/
URL:https://kehler-paddlergil.de/events/obere-ill-2/
END:VEVENT
END:VCALENDAR