BEGIN:VCALENDAR
VERSION:2.0
PRODID:-//eventon.com NONSGML v1.0//EN
CALSCALE:GREGORIAN
METHOD:PUBLISH
BEGIN:VEVENT
UID:69e645871e9fe
DTSTAMP:20260420T152559Z
DTSTART:20260614T070000Z
DTEND:20260614T215900Z
LOCATION:Bootshaus 77694 Kehl\,  Hafenstr. 6
SUMMARY:Hügelsheimer Köpfele
DESCRIPTION:Hügelsheimer Köpfele\nhttps://kehler-paddlergil.de/events/h%e
 f%bf%bdgelsheimer-k%ef%bf%bdpfele/
URL:https://kehler-paddlergil.de/events/h%ef%bf%bdgelsheimer-k%ef%bf%bdpfele/
END:VEVENT
END:VCALENDAR