BEGIN:VCALENDAR
VERSION:2.0
PRODID:-//eventon.com NONSGML v1.0//EN
CALSCALE:GREGORIAN
METHOD:PUBLISH
BEGIN:VEVENT
UID:69e645a8c6047
DTSTAMP:20260420T152632Z
DTSTART:20260610T063000Z
DTEND:20260610T063000Z
LOCATION:Bootshaus 77694 Kehl\,  Hafenstr. 6
SUMMARY:Perlen 2 Petite Ill
DESCRIPTION:Perlen 2 Petite Ill\nhttps://kehler-paddlergil.de/events/perlen
 -2-petite-ill/
URL:https://kehler-paddlergil.de/events/perlen-2-petite-ill/
END:VEVENT
END:VCALENDAR