BEGIN:VCALENDAR
VERSION:2.0
PRODID:-//eventon.com NONSGML v1.0//EN
CALSCALE:GREGORIAN
METHOD:PUBLISH
BEGIN:VEVENT
UID:69e645a14cd03
DTSTAMP:20260420T152625Z
DTSTART:20260604
DTEND:20260605
LOCATION:
SUMMARY:Lac du Der
DESCRIPTION:Verbandsfahrt_Lac-du-Der_2026Herunterladen\nhttps://kehler-padd
 lergil.de/events/lac-du-der/
URL:https://kehler-paddlergil.de/events/lac-du-der/
END:VEVENT
END:VCALENDAR