BEGIN:VCALENDAR
VERSION:2.0
PRODID:-//eventon.com NONSGML v1.0//EN
CALSCALE:GREGORIAN
METHOD:PUBLISH
BEGIN:VEVENT
UID:69e645a15212c
DTSTAMP:20260420T152625Z
DTSTART:20260520T063000Z
DTEND:20260520T063000Z
LOCATION:Bootshaus 77694 Kehl\,  Hafenstr. 6
SUMMARY:Perlen 1 Ottenheimer
DESCRIPTION:Perlen 1 Ottenheimer\nhttps://kehler-paddlergil.de/events/perle
 n-1-ottenheimer/
URL:https://kehler-paddlergil.de/events/perlen-1-ottenheimer/
END:VEVENT
END:VCALENDAR