BEGIN:VCALENDAR
VERSION:2.0
PRODID:-//eventon.com NONSGML v1.0//EN
CALSCALE:GREGORIAN
METHOD:PUBLISH
BEGIN:VEVENT
UID:69e64587cd98d
DTSTAMP:20260420T152559Z
DTSTART:20260517T070000Z
DTEND:20260517T070000Z
LOCATION:Bootshaus 77694 Kehl\,  Hafenstr. 6
SUMMARY:Groschenwasser
DESCRIPTION:Groschenwasser\nhttps://kehler-paddlergil.de/events/groschenwas
 ser-4/
URL:https://kehler-paddlergil.de/events/groschenwasser-4/
END:VEVENT
END:VCALENDAR