BEGIN:VCALENDAR
VERSION:2.0
PRODID:-//eventon.com NONSGML v1.0//EN
CALSCALE:GREGORIAN
METHOD:PUBLISH
BEGIN:VEVENT
UID:69e64584e5771
DTSTAMP:20260420T152556Z
DTSTART:20260514T070000Z
DTEND:20260514T215900Z
LOCATION:Bootshaus 77694 Kehl\,  Hafenstr. 6
SUMMARY:Taubergießen
DESCRIPTION:Taubergießen\nhttps://kehler-paddlergil.de/events/taubergie%ef
 %bf%bden/
URL:https://kehler-paddlergil.de/events/taubergie%ef%bf%bden/
END:VEVENT
END:VCALENDAR