BEGIN:VCALENDAR
VERSION:2.0
PRODID:-//eventon.com NONSGML v1.0//EN
CALSCALE:GREGORIAN
METHOD:PUBLISH
BEGIN:VEVENT
UID:69eaa2e0728e9
DTSTAMP:20260423T225320Z
DTSTART:20260426T060000Z
DTEND:20260426T215900Z
LOCATION:Bootshaus 77694 Kehl\,  Hafenstr. 6
SUMMARY:Restrhein
DESCRIPTION:Restrhein\nhttps://kehler-paddlergil.de/events/restrhein-3/
URL:https://kehler-paddlergil.de/events/restrhein-3/
END:VEVENT
END:VCALENDAR