BEGIN:VCALENDAR
VERSION:2.0
PRODID:-//eventon.com NONSGML v1.0//EN
CALSCALE:GREGORIAN
METHOD:PUBLISH
BEGIN:VEVENT
UID:69e645a7caa02
DTSTAMP:20260420T152631Z
DTSTART:20260412T070000Z
DTEND:20260412T215900Z
LOCATION:Bootshaus 77694 Kehl\,  Hafenstr. 6
SUMMARY:Bruche
DESCRIPTION:Tour von Avolsheim bis Straßburg. Die Strecke ist nur für erf
 ahrene Paddler geeignet. Die Bruche ist eine selten gepaddelte Flussperle. 
 Mit flotter Strömung geht es von Molsheim nach Straßburg. Der Fluss darf 
 sich meist noch frei durch Wald und Wiesen schlängeln\,  mit Prallhängen\
 ,  Schwällen\,  Kies- und Sandbänken.&nbsp; Wer sich traut[..]\nhttps://k
 ehler-paddlergil.de/events/bruche/
URL:https://kehler-paddlergil.de/events/bruche/
END:VEVENT
END:VCALENDAR