BEGIN:VCALENDAR
VERSION:2.0
PRODID:-//eventon.com NONSGML v1.0//EN
CALSCALE:GREGORIAN
METHOD:PUBLISH
BEGIN:VEVENT
UID:69ec9636aa64f
DTSTAMP:20260425T102350Z
DTSTART:20240629T120000Z
DTEND:20240629T215000Z
LOCATION:
SUMMARY:Schnupperpaddeln
DESCRIPTION:Bitte unbedingt über das Formular anmelden. Sie erhalten Inf
 ormationen über den Verein\,  über das Paddeln\,  die Ausrüstung und vie
 les mehr. Selbstverständlich gehört auch ein praktischer Teil mit einer k
 leinen Paddeltour dazu. Boote\,  Paddel\,  Schwimmwesten etc. werden gestel
 lt.Mitzubringen sind lockere Sportkleidung\,  Handtuch\,  Ersatzkleidung un
 d gute Laune Teilnehmen kann jeder der mindestens 16 Jahre[..]\nhttps://keh
 ler-paddlergil.de/events/schnupperpaddeln-6/
URL:https://kehler-paddlergil.de/events/schnupperpaddeln-6/
END:VEVENT
END:VCALENDAR