BEGIN:VCALENDAR
VERSION:2.0
PRODID:-//eventon.com NONSGML v1.0//EN
CALSCALE:GREGORIAN
METHOD:PUBLISH
BEGIN:VEVENT
UID:69e664cc1e1c2
DTSTAMP:20260420T173924Z
DTSTART:20240929T070000Z
DTEND:20240929T215000Z
LOCATION:Bootshaus 77694 Kehl\,  Hafenstr. 6
SUMMARY:Abpaddeln Untere Ill
DESCRIPTION:Abpaddeln Untere Ill\nhttps://kehler-paddlergil.de/events/abpad
 deln-untere-ill-2/
URL:https://kehler-paddlergil.de/events/abpaddeln-untere-ill-2/
END:VEVENT
END:VCALENDAR