BEGIN:VCALENDAR
VERSION:2.0
PRODID:-//eventon.com NONSGML v1.0//EN
CALSCALE:GREGORIAN
METHOD:PUBLISH
BEGIN:VEVENT
UID:69e664ccebfb6
DTSTAMP:20260420T173924Z
DTSTART:20240920
DTEND:20240921
LOCATION:Bootshaus 77694 Kehl\,  Hafenstr. 6
SUMMARY:Ortenau und Elsass (Verbandsfahrt)
DESCRIPTION:Verbandsfahrt_KehlHerunterladen Anmeldung zur Verbandsfahrt!\nh
 ttps://kehler-paddlergil.de/events/lac-du-der-verbandsfahrt/
URL:https://kehler-paddlergil.de/events/lac-du-der-verbandsfahrt/
END:VEVENT
END:VCALENDAR