BEGIN:VCALENDAR
VERSION:2.0
PRODID:-//eventon.com NONSGML v1.0//EN
CALSCALE:GREGORIAN
METHOD:PUBLISH
BEGIN:VEVENT
UID:69e664cb64f3d
DTSTAMP:20260420T173923Z
DTSTART:20240907
DTEND:20240908
LOCATION:Bootshaus 77694 Kehl\,  Hafenstr. 6
SUMMARY:Naut'Ill Fest in Straßburg
DESCRIPTION:Die Kehler Paddlergilde ist Mitorganisator des Festes in Straß
 burg. Informationen und Anmeldung: Wanderfahrt Straßburg &#8211; durch Str
 aßburg Kanu-kajak und Dragons Boats – 2024 | NAUT&#8217;ILL FEST (naut-i
 ll-fest.fr)\nhttps://kehler-paddlergil.de/events/nautill-fest-in-strassburg
 /
URL:https://kehler-paddlergil.de/events/nautill-fest-in-strassburg/
END:VEVENT
END:VCALENDAR