BEGIN:VCALENDAR
VERSION:2.0
PRODID:-//eventon.com NONSGML v1.0//EN
CALSCALE:GREGORIAN
METHOD:PUBLISH
BEGIN:VEVENT
UID:69e664d982d26
DTSTAMP:20260420T173937Z
DTSTART:20240831
DTEND:20240901
LOCATION:Bootshaus 77694 Kehl\,  Hafenstr. 6
SUMMARY:Lampionwochenende
DESCRIPTION:Hier die Ausschreibung und der Link zur Anmeldung: Ausschreibun
 g-Lampionfahrt-2024Herunterladen Anmeldung zur Lampionfahrt\nhttps://kehler
 -paddlergil.de/events/lampionwochenende-2/
URL:https://kehler-paddlergil.de/events/lampionwochenende-2/
END:VEVENT
END:VCALENDAR